﻿BEGIN:VCALENDAR
VERSION:2.0
PRODID:-//Date iCal//NONSGML kigkonsult.se iCalcreator 2.20.2//
METHOD:PUBLISH
BEGIN:VTIMEZONE
TZID:Europe/Paris
BEGIN:STANDARD
DTSTART:20261025T030000
TZOFFSETFROM:+0200
TZOFFSETTO:+0100
TZNAME:CET
END:STANDARD
BEGIN:DAYLIGHT
DTSTART:20260329T020000
TZOFFSETFROM:+0100
TZOFFSETTO:+0200
TZNAME:CEST
END:DAYLIGHT
END:VTIMEZONE
BEGIN:VEVENT
UID:calendar.730.field_event_date.0@www.sfnr.net
DTSTAMP:20260421T120336Z
CREATED:20260421T065740Z
DESCRIPTION:Cours d'imagerie du rocher\n    \n    \n    \n\n      	  \n\n		  
 \n Du : 21-04-2026 au : 21-04-2026\n\nRue - Complément: CHU Bordeaux - Ser
 vice de Neuroimagerie diagnostique et thérapeutique\n Bordeaux\nFrance	\n	  
 \n		\nBody: \n\nNous sommes très heureux de vous convier au prochain cours d
 'imagerie du rocher organisée le 19 juin 2026 au CHU de Bordeaux dans le s
 ervice de Neuroimagerie diagnostique et thérapeutique.\n\n\n\nLa 2e sessio
 n organisée en 2026 concerne cette fois-ci l'oreille interne avec une appr
 oche anatomique et pathologique.\n\n\n\nChaque cours est systématiquement 
 présenté par un binôme de médecins ORL/ neuroradiologue de manière à privi
 légier une approche complète de la pathologie de l'oreille interne.\n\n\n
 \nLes inscriptions se font par mail auprès de : dominique.brat@chu-bordeau
 x.fr\n\n\n\nAssistance Présentielle ou en visioconférence\n\n\n\nPlus d'in
 formations : Cliquer ici\n\n\n\nA très bientôt à tous\n\n\n\nD Xavier BARR
 EAU – Neuroimagerie  - CH PELLEGRIN BORDEAUX\n\n\n\n\n						 
DTSTART;TZID=Europe/Paris:20260619T090000
DTEND;TZID=Europe/Paris:20260619T180000
LAST-MODIFIED:20260421T070746Z
SUMMARY:Cours d'imagerie du rocher
URL;TYPE=URI:https://www.sfnr.net/sfnr/agenda-neuroradiologie/cours-dimager
 ie-rocher
END:VEVENT
END:VCALENDAR
