﻿BEGIN:VCALENDAR
VERSION:2.0
PRODID:-//Date iCal//NONSGML kigkonsult.se iCalcreator 2.20.2//
METHOD:PUBLISH
BEGIN:VTIMEZONE
TZID:Europe/Paris
BEGIN:STANDARD
DTSTART:20261025T030000
TZOFFSETFROM:+0200
TZOFFSETTO:+0100
TZNAME:CET
END:STANDARD
BEGIN:DAYLIGHT
DTSTART:20260329T020000
TZOFFSETFROM:+0100
TZOFFSETTO:+0200
TZNAME:CEST
END:DAYLIGHT
END:VTIMEZONE
BEGIN:VEVENT
UID:calendar.727.field_event_date.0@www.sfnr.net
DTSTAMP:20260420T154044Z
CREATED:20260415T150036Z
DESCRIPTION:5èmes journées de l’Amicale de NeuroImagerie Pédiatrique (AmiNI
 P) \n    \n    \n    \n\n      	  \n\n		  \n Du : 20-04-2026 au : 20-04-2026
 \n\nRue - Complément: hôpital Necker\n Paris\n	\n	  \n		\nBody: \n\nAmateurs o
 u curieux de neuroradiologie pédiatrique\, les 5èmes journées de l’Amicale
  de NeuroImagerie Pédiatrique (AmiNIP) se dérouleront les jeudi 18 et vend
 redi 19 Juin à Paris\, sur le site de l’hôpital Necker.  \n\n\n\nLa format
 ion est axée autour de 3 thématiques principales (cerveau anténatal - trau
 matisme crânien non accidentel - tumeurs cérébrales du nourrisson)\n\n\n\n
 + 1 session pratique orientée junior + des présentations focus + un quiz p
 ar équipes + plein de quiz pédagogiques interactifs + 1 soirée !!\n\n\n\nA
 lors maintenant\, où je m'inscris ??? \nIl suffit d’adhérer à l’associatio
 n AmiNIP pour l'année 2026\, cela vous inscrit automatiquement au congrès 
 !! Le lien HelloAsso est juste après !!\n\n\n\nTarif préférentiel de 25€ p
 our les juniors\, 50€ pour les seniors (ça finance les victuailles et les 
 cadeaux!) ! \n\n\n\nLe lien pour l’inscription à l’AmiNIP (et donc au cong
 rès !) est juste sous cette phrase !!\nhttps://www.helloasso.com/associati
 ons/aminip-amicale-de-neuroimagerie-pediatrique/adhesions/aminip-2025-26\n
 \n\n\nLe lien pour préciser quand vous serez présents est juste sous cette
  phrase !!\nhttps://forms.gle/J1XddrF5aaQbB9E46\n\n\n\nConsulter le progra
 mme : cliquer ici\n\n\n\nEn espérant vous voir très nombreux le jeudi 18 J
 uin\, au congrès puis à la soirée AmiNIP\, et vous voir très motivés\, sur
 chauffés le vendredi pour le Super Ami Quiz (moult cadeaux à gagner\, pour
  découvrir et apprendre dans une ambiance conviviale !)\nL’équipe de L’Ami
 NIP\n\n\n\n \n\n\n\n\n						 
DTSTART;TZID=Europe/Paris:20260618T090000
DTEND;TZID=Europe/Paris:20260619T180000
LAST-MODIFIED:20260420T092041Z
SUMMARY:5èmes journées de l’Amicale de NeuroImagerie Pédiatrique (AmiNIP)
URL;TYPE=URI:https://www.sfnr.net/sfnr/agenda-neuroradiologie/5emes-journee
 s-lamicale-neuroimagerie-pediatrique-aminip
END:VEVENT
END:VCALENDAR
